BEGIN:VCALENDAR
VERSION:2.0
PRODID:-//Seven Mile Post - ECPv6.15.12.2//NONSGML v1.0//EN
CALSCALE:GREGORIAN
METHOD:PUBLISH
X-ORIGINAL-URL:https://sevenmilepost.com
X-WR-CALDESC:Events for Seven Mile Post
REFRESH-INTERVAL;VALUE=DURATION:PT1H
X-Robots-Tag:noindex
X-PUBLISHED-TTL:PT1H
BEGIN:VTIMEZONE
TZID:America/New_York
BEGIN:DAYLIGHT
TZOFFSETFROM:-0500
TZOFFSETTO:-0400
TZNAME:EDT
DTSTART:20250309T070000
END:DAYLIGHT
BEGIN:STANDARD
TZOFFSETFROM:-0400
TZOFFSETTO:-0500
TZNAME:EST
DTSTART:20251102T060000
END:STANDARD
BEGIN:DAYLIGHT
TZOFFSETFROM:-0500
TZOFFSETTO:-0400
TZNAME:EDT
DTSTART:20260308T070000
END:DAYLIGHT
BEGIN:STANDARD
TZOFFSETFROM:-0400
TZOFFSETTO:-0500
TZNAME:EST
DTSTART:20261101T060000
END:STANDARD
BEGIN:DAYLIGHT
TZOFFSETFROM:-0500
TZOFFSETTO:-0400
TZNAME:EDT
DTSTART:20270314T070000
END:DAYLIGHT
BEGIN:STANDARD
TZOFFSETFROM:-0400
TZOFFSETTO:-0500
TZNAME:EST
DTSTART:20271107T060000
END:STANDARD
END:VTIMEZONE
BEGIN:VEVENT
DTSTART;TZID=America/New_York:20260524T190000
DTEND;TZID=America/New_York:20260524T220000
DTSTAMP:20260423T165042
CREATED:20260421T151446Z
LAST-MODIFIED:20260421T151448Z
UID:144255-1779649200-1779660000@sevenmilepost.com
SUMMARY:LIVE MUSIC WITH RESOUL
DESCRIPTION:Sunday night does not have to be quiet. On Sunday\, May 24\, 2026\, Resoul brings live music to Seven Mile Post from 7 PM to 10 PM for a night of smooth sound\, cold drinks\, tasty bar bites\, and easygoing weekend energy in Wilmington. \n\n\n\nFor a $5 cover charge\, you can settle in\, grab a drink\, and close out the weekend with three hours of live music at one of Wilmington’s favorite local bars. Whether you are winding down from a busy weekend or squeezing one more night out of it\, Resoul at Seven Mile Post is a solid Sunday plan. \n\n\n\n🎵 Event Details \n\n\n\nDate: Sunday\, May 24\, 2026 \n\n\n\nTime: 7:00 PM – 10:00 PM \n\n\n\nLocation: Seven Mile Post\, 7219 Market St\, Wilmington\, NC \n\n\n\n🎟️ Cover Charge: $5 \n\n\n\n🔞 21+ Event \n\n\n\n🎤 About Resoul \n\n\n\nResoul brings a soulful\, crowd-friendly live music experience that fits perfectly with a Sunday night at Seven Mile Post. Expect a set built for good drinks\, good company\, and an easy rhythm that keeps the weekend going a little longer. \n\n\n\n🍻 About Seven Mile Post\, Wilmington’s Go-To Spot for Live Music \n\n\n\nSeven Mile Post is a local Wilmington favorite for live bands\, cold drinks\, bar games\, food\, and relaxed nights out. If you are looking for live music Wilmington NC in a casual bar setting\, this is the place to be. \n\n\n\n🔥 Why You Shouldn’t Miss It \n\n\n\nEnd the weekend with Resoul\, a cold drink\, and a laid-back night of live music at Seven Mile Post. $5 cover\, 21+\, and all the Sunday night vibes you need.
URL:https://sevenmilepost.com/event/live-music-resoul-wilmington-nc-may-24/
LOCATION:Seven Mile Post\, Seven Mile Post\, 7219 Market Street\, Wilmington\, NC\, 28411\, United States
CATEGORIES:Live Music (With Webpage)
END:VEVENT
BEGIN:VEVENT
DTSTART;TZID=America/New_York:20260525T190000
DTEND;TZID=America/New_York:20260525T210000
DTSTAMP:20260423T165042
CREATED:20260421T151654Z
LAST-MODIFIED:20260421T151656Z
UID:144257-1779735600-1779742800@sevenmilepost.com
SUMMARY:MUSIC BINGO
DESCRIPTION:Monday night is back on the playlist. On Monday\, May 25\, 2026\, Seven Mile Post brings another round of Music Bingo Wilmington NC to 7219 Market St from 7 PM to 9 PM\, with free entry\, drink specials\, food\, prizes\, and plenty of chances to prove your music knowledge. \n\n\n\nListen for the hits\, mark your card\, and get ready for that one song that instantly turns your table into the loudest crew in the room. Whether you know every lyric or you are just here for drinks and a fun Monday night\, Music Bingo at Seven Mile Post keeps the week moving in the right direction. \n\n\n\nFree to play\, 21+\, and loaded with prizes\, bar bites\, drink specials\, and local bragging rights. \n\n\n\n🎶 Admission: Free to play \n\n\n\n🍻 Perks: Drink specials all night \n\n\n\n🍔 Food: Delicious bar bites \n\n\n\n🏆 Prizes: Awesome rewards and local bragging rights \n\n\n\n🗓️ Date: Monday\, May 25\, 2026 \n\n\n\n🕖 Time: 7:00 PM – 9:00 PM \n\n\n\n📍 Location: Seven Mile Post\, 7219 Market St\, Wilmington\, NC \n\n\n\n🔞 Age Restriction: 21+ event
URL:https://sevenmilepost.com/event/music-bingo-wilmington-nc-may-25/
LOCATION:Seven Mile Post\, Seven Mile Post\, 7219 Market Street\, Wilmington\, NC\, 28411\, United States
CATEGORIES:Recurring Events (List Only)
END:VEVENT
BEGIN:VEVENT
DTSTART;TZID=America/New_York:20260526T190000
DTEND;TZID=America/New_York:20260527T000000
DTSTAMP:20260423T165042
CREATED:20260421T152105Z
LAST-MODIFIED:20260421T152107Z
UID:144259-1779822000-1779840000@sevenmilepost.com
SUMMARY:RETRO GAMING NIGHT
DESCRIPTION:Tuesday night is getting the throwback treatment at Seven Mile Post. On Tuesday\, May 26\, 2026\, Retro Gaming Night Wilmington NC returns from 7 PM to midnight with classic games\, big-screen competition\, cold drinks\, food\, and plenty of friendly trash talk. \n\n\n\nGrab a controller and jump into the games that never stopped being fun. Whether you are racing through Mario Kart\, battling it out in Super Smash Bros.\, reliving the chaos of GoldenEye 007\, or just hanging with friends over drinks\, this is your easy midweek plan. \n\n\n\nFree to play\, 21+\, and built for anyone who wants a casual night out with games\, drinks\, and local bragging rights. \n\n\n\n🎮 Admission: Free to play \n\n\n\n🕹️ Games: Nintendo 64\, Switch\, Mario Kart\, Super Smash Bros.\, GoldenEye\, and more \n\n\n\n🍻 Perks: Drink specials and cold beer \n\n\n\n🍔 Food: Delicious bar bites available \n\n\n\n🏆 Vibe: Friendly competition and bragging rights \n\n\n\n🗓️ Date: Tuesday\, May 26\, 2026 \n\n\n\n🕖 Time: 7:00 PM – 12:00 AM \n\n\n\n📍 Location: Seven Mile Post\, 7219 Market St\, Wilmington\, NC \n\n\n\n🔞 Age Restriction: 21+ event
URL:https://sevenmilepost.com/event/retro-gaming-night-wilmington-nc-may-26/
LOCATION:Seven Mile Post\, Seven Mile Post\, 7219 Market Street\, Wilmington\, NC\, 28411\, United States
CATEGORIES:Recurring Events (List Only)
END:VEVENT
BEGIN:VEVENT
DTSTART;TZID=America/New_York:20260527T190000
DTEND;TZID=America/New_York:20260527T210000
DTSTAMP:20260423T165042
CREATED:20260421T152413Z
LAST-MODIFIED:20260421T152415Z
UID:144261-1779908400-1779915600@sevenmilepost.com
SUMMARY:CORNHOLE TOURNAMENT
DESCRIPTION:Wednesday night is for cold drinks\, good throws\, and a little friendly competition. On Wednesday\, May 27\, 2026\, Seven Mile Post is hosting another Cornhole Tournament Wilmington NC from 7 PM to 9 PM\, giving players a chance to step up\, toss bags\, win prizes\, and earn local bragging rights. \n\n\n\nFor just $10 per player\, you can join the tournament and see how your aim holds up under pressure. Bring your friends\, grab a drink\, order some food\, and settle in for a fun midweek night at Seven Mile Post. \n\n\n\nWhether you play every week or you are just jumping in for the first time\, this is an easy Wednesday plan with plenty of competition\, laughs\, and bar-night energy. \n\n\n\n🎯 Admission: $10 per player \n\n\n\n🍻 Perks: Drink specials and cold beer \n\n\n\n🍔 Food: Delicious bar bites available \n\n\n\n🏆 Prizes: Rewards and local bragging rights \n\n\n\n🗓️ Date: Wednesday\, May 27\, 2026 \n\n\n\n🕖 Time: 7:00 PM – 9:00 PM \n\n\n\n📍 Location: Seven Mile Post\, 7219 Market St\, Wilmington\, NC \n\n\n\n🔞 Age Restriction: 21+ event
URL:https://sevenmilepost.com/event/cornhole-tournament-wilmington-nc-may-27/
LOCATION:Seven Mile Post\, Seven Mile Post\, 7219 Market Street\, Wilmington\, NC\, 28411\, United States
CATEGORIES:Recurring Events (List Only)
END:VEVENT
BEGIN:VEVENT
DTSTART;TZID=America/New_York:20260528T183000
DTEND;TZID=America/New_York:20260528T200000
DTSTAMP:20260423T165042
CREATED:20260421T152657Z
LAST-MODIFIED:20260421T152659Z
UID:144263-1779993000-1779998400@sevenmilepost.com
SUMMARY:TRIVIA NIGHT
DESCRIPTION:Thursday night is trivia night at Seven Mile Post. On Thursday\, May 28\, 2026\, gather your smartest friends\, your luckiest guessers\, and that one teammate who somehow knows every random fact ever for another round of Trivia Night Wilmington NC. \n\n\n\nFrom 6:30 PM to 8 PM\, we are bringing the questions\, the competition\, the prizes\, and the cold drinks. Expect a fun mix of topics\, plenty of chances to show off\, and just enough tricky questions to keep every team humble. \n\n\n\nWhether you are playing to win or just looking for a fun Thursday night out in Wilmington\, Seven Mile Post has the perfect setup with drinks\, food\, prizes\, and local bragging rights waiting. \n\n\n\n🎉 Admission: Free to play \n\n\n\n🍻 Perks: Drink specials and cold beer \n\n\n\n🍔 Food: Delicious bar bites available \n\n\n\n🏆 Prizes: Rewards and local bragging rights \n\n\n\n🗓️ Date: Thursday\, May 28\, 2026 \n\n\n\n🕡 Time: 6:30 PM – 8:00 PM \n\n\n\n📍 Location: Seven Mile Post\, 7219 Market St\, Wilmington\, NC \n\n\n\n🔞 Age Restriction: 21+ event
URL:https://sevenmilepost.com/event/trivia-night-wilmington-nc-may-28/
LOCATION:Seven Mile Post\, Seven Mile Post\, 7219 Market Street\, Wilmington\, NC\, 28411\, United States
CATEGORIES:Recurring Events (List Only)
END:VEVENT
BEGIN:VEVENT
DTSTART;TZID=America/New_York:20260528T200000
DTEND;TZID=America/New_York:20260528T230000
DTSTAMP:20260423T165042
CREATED:20260421T153549Z
LAST-MODIFIED:20260421T153552Z
UID:144265-1779998400-1780009200@sevenmilepost.com
SUMMARY:LIVE MUSIC WITH SAI COLLINS
DESCRIPTION:Thursday night keeps moving at Seven Mile Post. On Thursday\, May 28\, 2026\, Sai Collins brings free live music to 7219 Market St from 8 PM to 11 PM\, giving Wilmington a perfect weeknight mix of live sound\, cold drinks\, good food\, and easy local energy. \n\n\n\nCome early for Trivia at 6:30 PM\, then stay as the night shifts into live music. Whether you are out with friends\, stopping in after work\, or looking for a no-cover Thursday night plan\, Sai Collins at Seven Mile Post is an easy win. \n\n\n\nNo cover\, 21+\, and plenty of reasons to stick around. \n\n\n\n🎵 Admission: Free entry \n\n\n\n🍻 Perks: Cold drinks and drink specials \n\n\n\n🍔 Food: Delicious bar bites available \n\n\n\n🎤 Live Music: Sai Collins performing from 8 PM to 11 PM \n\n\n\n🗓️ Date: Thursday\, May 28\, 2026 \n\n\n\n🕗 Time: 8:00 PM – 11:00 PM \n\n\n\n📍 Location: Seven Mile Post\, 7219 Market St\, Wilmington\, NC \n\n\n\n🔞 Age Restriction: 21+ event \n\n\n\n🔥 Why You Shouldn’t Miss It \n\n\n\nStart with Trivia\, stay for Sai Collins\, and turn a regular Thursday into a full night out. Free live music\, cold drinks\, good food\, and no complicated plans needed.
URL:https://sevenmilepost.com/event/live-music-sai-collins-wilmington-nc-may-28/
LOCATION:Seven Mile Post\, Seven Mile Post\, 7219 Market Street\, Wilmington\, NC\, 28411\, United States
CATEGORIES:Live Music (With Webpage)
END:VEVENT
BEGIN:VEVENT
DTSTART;TZID=America/New_York:20260529T190000
DTEND;TZID=America/New_York:20260529T220000
DTSTAMP:20260423T165042
CREATED:20260421T153759Z
LAST-MODIFIED:20260421T153801Z
UID:144267-1780081200-1780092000@sevenmilepost.com
SUMMARY:LIVE MUSIC WITH ASIA DAYE BAND
DESCRIPTION:Friday night is getting a free live music upgrade at Seven Mile Post. On Friday\, May 29\, 2026\, Asia Daye Band takes the stage from 7 PM to 10 PM for a night of live music\, cold drinks\, great food\, and full weekend energy in Wilmington. \n\n\n\nNo cover\, no complicated plans\, just a solid Friday night out with live music and a local crowd ready to kick off the weekend right. Bring your friends\, grab a drink\, order your favorite bar bites\, and settle in for three hours of live music at one of Wilmington’s favorite neighborhood spots. \n\n\n\nFree entry\, 21+\, and a perfect way to start the weekend at Seven Mile Post. \n\n\n\n🎵 Admission: Free entry \n\n\n\n🍻 Perks: Cold drinks and drink specials \n\n\n\n🍔 Food: Delicious bar bites available \n\n\n\n🎤 Live Music: Asia Daye Band performing from 7 PM to 10 PM \n\n\n\n🗓️ Date: Friday\, May 29\, 2026 \n\n\n\n🕖 Time: 7:00 PM – 10:00 PM \n\n\n\n📍 Location: Seven Mile Post\, 7219 Market St\, Wilmington\, NC \n\n\n\n🔞 Age Restriction: 21+ event \n\n\n\n🔥 Why You Shouldn’t Miss It \n\n\n\nStart your weekend with Asia Daye Band\, free live music\, cold drinks\, and a Friday night crowd that knows how to have a good time.
URL:https://sevenmilepost.com/event/free-live-music-asia-daye-band-wilmington-nc-may-29/
LOCATION:Seven Mile Post\, Seven Mile Post\, 7219 Market Street\, Wilmington\, NC\, 28411\, United States
CATEGORIES:Live Music (With Webpage)
END:VEVENT
BEGIN:VEVENT
DTSTART;TZID=America/New_York:20260530T190000
DTEND;TZID=America/New_York:20260530T220000
DTSTAMP:20260423T165042
CREATED:20260421T154201Z
LAST-MODIFIED:20260421T154203Z
UID:144269-1780167600-1780178400@sevenmilepost.com
SUMMARY:LIVE MUSIC WITH AUDIOMELT
DESCRIPTION:Saturday night gets loud at Seven Mile Post. On Saturday\, May 30\, 2026\, Audiomelt takes the stage from 7:00 PM to 10:00 PM for a full night of live music\, cold drinks\, bar bites\, and weekend energy in Wilmington. \n\n\n\nThis is a $5 cover event\, 21+\, and the perfect Saturday plan if you want live music without overthinking the night. Bring your crew\, grab a drink\, settle in\, and let Audiomelt keep the room moving. \n\n\n\n🗓️ Event Details \n\n\n\nDate: Saturday\, May 30\, 2026 \n\n\n\nTime: 7:00 PM – 10:00 PM \n\n\n\nLocation: Seven Mile Post\, 7219 Market St\, Wilmington\, NC \n\n\n\n🎟️ $5 Cover Charge \n\n\n\n🔞 21+ Event \n\n\n\n🎸 About Audiomelt \n\n\n\nAudiomelt brings a live\, crowd-ready sound made for a Saturday night bar crowd. Expect a set that pairs perfectly with cold drinks\, good company\, and the kind of local energy that keeps the weekend going strong. \n\n\n\n🍻 About Seven Mile Post\, Wilmington’s Go-To Spot for Live Music \n\n\n\nSeven Mile Post is the spot for live music in Wilmington NC\, with ice-cold drinks\, tasty bar bites\, and a laid-back crowd that knows how to turn a regular night into a good one. \n\n\n\n🔥 Why You Shouldn’t Miss It \n\n\n\nSaturday night\, live music\, drinks\, food\, and Audiomelt on stage from 7:00 PM to 10:00 PM. For just $5 at the door\, you get a full night of music and weekend energy at Seven Mile Post.
URL:https://sevenmilepost.com/event/live-music-audiomelt-wilmington-nc-may-30/
LOCATION:Seven Mile Post\, Seven Mile Post\, 7219 Market Street\, Wilmington\, NC\, 28411\, United States
CATEGORIES:Live Music (With Webpage)
END:VEVENT
BEGIN:VEVENT
DTSTART;TZID=America/New_York:20260531T170000
DTEND;TZID=America/New_York:20260531T200000
DTSTAMP:20260423T165042
CREATED:20260421T154356Z
LAST-MODIFIED:20260421T154358Z
UID:144271-1780246800-1780257600@sevenmilepost.com
SUMMARY:LIVE MUSIC WITH TOM GOSSIN
DESCRIPTION:Close out May with free live music at Seven Mile Post. On Sunday\, May 31\, 2026\, Tom Gossin takes the stage from 5:00 PM to 8:00 PM for an easy Sunday evening filled with live music\, cold drinks\, bar bites\, and relaxed Wilmington energy. \n\n\n\nThis is a free live music event\, so there is no cover and no complicated plan needed. Bring your friends\, grab a drink\, order some food\, and enjoy a laid-back evening before the new week starts. \n\n\n\n🗓️ Event Details \n\n\n\nDate: Sunday\, May 31\, 2026 \n\n\n\nTime: 5:00 PM – 8:00 PM \n\n\n\nLocation: Seven Mile Post\, 7219 Market St\, Wilmington\, NC \n\n\n\n🎟️ Free Entry \n\n\n\n🔞 21+ Event \n\n\n\n🎸 About Tom Gossin \n\n\n\nTom Gossin brings a live\, easygoing sound that fits perfectly with a Sunday evening crowd. Expect a set made for cold drinks\, good food\, and a relaxed local hangout at Seven Mile Post. \n\n\n\n🍻 About Seven Mile Post\, Wilmington’s Go-To Spot for Live Music \n\n\n\nSeven Mile Post is a local favorite for live music in Wilmington NC\, with cold drinks\, tasty bar bites\, weekly events\, and a laid-back crowd that knows how to enjoy a night out. \n\n\n\n🔥 Why You Shouldn’t Miss It \n\n\n\nFree live music\, Sunday evening drinks\, good food\, and Tom Gossin on stage from 5:00 PM to 8:00 PM. It is the perfect way to wrap up the weekend at Seven Mile Post.
URL:https://sevenmilepost.com/event/free-live-music-tom-gossin-wilmington-nc-may-31/
LOCATION:Seven Mile Post\, Seven Mile Post\, 7219 Market Street\, Wilmington\, NC\, 28411\, United States
CATEGORIES:Live Music (With Webpage)
END:VEVENT
END:VCALENDAR