BEGIN:VCALENDAR
VERSION:2.0
PRODID:-//Seven Mile Post - ECPv6.15.12.2//NONSGML v1.0//EN
CALSCALE:GREGORIAN
METHOD:PUBLISH
X-WR-CALNAME:Seven Mile Post
X-ORIGINAL-URL:https://sevenmilepost.com
X-WR-CALDESC:Events for Seven Mile Post
REFRESH-INTERVAL;VALUE=DURATION:PT1H
X-Robots-Tag:noindex
X-PUBLISHED-TTL:PT1H
BEGIN:VTIMEZONE
TZID:America/New_York
BEGIN:DAYLIGHT
TZOFFSETFROM:-0500
TZOFFSETTO:-0400
TZNAME:EDT
DTSTART:20240310T070000
END:DAYLIGHT
BEGIN:STANDARD
TZOFFSETFROM:-0400
TZOFFSETTO:-0500
TZNAME:EST
DTSTART:20241103T060000
END:STANDARD
BEGIN:DAYLIGHT
TZOFFSETFROM:-0500
TZOFFSETTO:-0400
TZNAME:EDT
DTSTART:20250309T070000
END:DAYLIGHT
BEGIN:STANDARD
TZOFFSETFROM:-0400
TZOFFSETTO:-0500
TZNAME:EST
DTSTART:20251102T060000
END:STANDARD
BEGIN:DAYLIGHT
TZOFFSETFROM:-0500
TZOFFSETTO:-0400
TZNAME:EDT
DTSTART:20260308T070000
END:DAYLIGHT
BEGIN:STANDARD
TZOFFSETFROM:-0400
TZOFFSETTO:-0500
TZNAME:EST
DTSTART:20261101T060000
END:STANDARD
END:VTIMEZONE
BEGIN:VEVENT
DTSTART;TZID=America/New_York:20250308T190000
DTEND;TZID=America/New_York:20250308T230000
DTSTAMP:20260425T080935
CREATED:20250307T183921Z
LAST-MODIFIED:20250307T184337Z
UID:142287-1741460400-1741474800@sevenmilepost.com
SUMMARY:Live Music In Wilmington: The Christine Martinez Band at Seven Mile Post! 
DESCRIPTION:📍 Seven Mile Post | 🕖 7:00 PM – 11:00 PM | 🎟 FREE ENTRY \nWilmington\, are you ready to turn up the volume on your weekend? Brace yourself for an unforgettable night of high-energy rock\, soulful grooves\, and pure musical magic as the Christine Martinez Band takes over Seven Mile Post! \nWhy This Night Will Be LEGENDARY\n🔥 Christine Martinez isn’t just a vocalist—she’s a powerhouse\, a showstopper\, a force of nature with a voice that demands your attention and a stage presence that will have you singing along\, dancing\, and throwing your hands in the air like you just don’t care. \n🎸 Backed by a killer band that knows how to rip through rock\, blues\, soul\, and pop anthems\, these musicians bring the kind of raw energy that live music lovers crave. \n🍺 And where better to experience it than Seven Mile Post—the ultimate hotspot for live music in Wilmington? Killer drinks\, great vibes\, and a crowd that knows how to party—this is where the best nights happen. \nTHE EVENT DETAILS \n📆 Mark your calendar: Saturday\, March 8th📍 Location: Seven Mile Post\, 7219 Market St\, Wilmington\, NC🕖 Time: 7:00 PM – 11:00 PM🎟 Cover Charge: $0 (Yep\, it’s FREE!)👯‍♂️ Who’s invited? YOU + your entire crew \n🚨 DON’T MISS THIS – It’s not every night that a band like this tears up the stage at Wilmington’s #1 music spot. Get here early\, grab a drink\, and let’s make it a night to remember \n🔥 What People Say About Christine Martinez Band\n🎤 “Best live music experience in Wilmington!”🎸 “Christine’s voice is INSANE! You HAVE to hear her live.”🍻 “Seven Mile Post + killer live music = the perfect night.” \nHelp spread the word! Tag a friend\, share on social\, and let Wilmington know this is THE place to be on Saturday\, March 8th.
URL:https://sevenmilepost.com/event/christine-martinez-band-live-seven-mile-post-wilmington-nc/
LOCATION:Seven Mile Post\, Seven Mile Post\, 7219 Market Street\, Wilmington\, NC\, 28411\, United States
CATEGORIES:March 2025
ATTACH;FMTTYPE=image/webp:https://sevenmilepost.com/wp-content/uploads/2025/03/Christina-Martinez-Band-at-Seven-Mile-Post.webp
END:VEVENT
END:VCALENDAR